BEGIN:VCALENDAR
VERSION:2.0
PRODID:-//wp-events-plugin.com//7.2.3.1//EN
TZID:America/Toronto
X-WR-TIMEZONE:America/Toronto
BEGIN:VEVENT
UID:3532@ville.matane.qc.ca
DTSTART;TZID=America/Toronto:20260424T170000
DTEND;TZID=America/Toronto:20260424T170000
DTSTAMP:20260421T180204Z
URL:https://www.ville.matane.qc.ca/events/souper-mets-chinois-7/
SUMMARY:Souper Mets chinois
DESCRIPTION:Souper Mets Chinois organisé par le Relais de St-Adelme\, le v
 endredi 24 avril à compter de 17 h.\n\nPour information :\nÉvénement Fa
 cebook\n\nRetour aux événements
ATTACH;FMTTYPE=image/jpeg:https://www.ville.matane.qc.ca/wp-content/upload
 s/2025/05/Souper-mets-chinois-1920x1080-1.webp
CATEGORIES:Cuisine
LOCATION:Relais St-Adelme\, 230 rue Principale\, St-Adelme\, QC\, Canada
GEO:0.000000;0.000000
X-APPLE-STRUCTURED-LOCATION;VALUE=URI;X-ADDRESS=230 rue Principale\, St-Ade
 lme\, QC\, Canada;X-APPLE-RADIUS=100;X-TITLE=Relais St-Adelme:geo:0.000000
 ,0.000000
END:VEVENT
BEGIN:VTIMEZONE
TZID:America/Toronto
X-LIC-LOCATION:America/Toronto
BEGIN:DAYLIGHT
DTSTART:20260308T030000
TZOFFSETFROM:-0500
TZOFFSETTO:-0400
TZNAME:EDT
END:DAYLIGHT
END:VTIMEZONE
END:VCALENDAR