BEGIN:VCALENDAR
VERSION:2.0
PRODID:-//wp-events-plugin.com//7.2.3.1//EN
TZID:America/Toronto
X-WR-TIMEZONE:America/Toronto
BEGIN:VEVENT
UID:3975@ville.matane.qc.ca
DTSTART;TZID=America/Toronto:20260509T190000
DTEND;TZID=America/Toronto:20260509T230000
DTSTAMP:20260421T180343Z
URL:https://www.ville.matane.qc.ca/events/soiree-de-danse-en-ligne-country
 /
SUMMARY:Soirée de danse en ligne country
DESCRIPTION:Soirée de danse en ligne country\, samedi le 9 mai 2026\, de 1
 9 h à 23 h\, aux Allées du Boulevard.\nEntrée 10 $ par personne\, bar d
 isponible sur place.\n\nPour plus d'information :\nÉvénement Facebook\n\
 nRetour aux événements\n\n&nbsp\;
ATTACH;FMTTYPE=image/jpeg:https://www.ville.matane.qc.ca/wp-content/upload
 s/2026/02/danse-en-ligne-country-allees-blvd.webp
CATEGORIES:Danse
LOCATION:Les Allées du Boulevard\, 1400 boulevard Dion\, Matane\, QC\, Can
 ada
GEO:0.000000;0.000000
X-APPLE-STRUCTURED-LOCATION;VALUE=URI;X-ADDRESS=1400 boulevard Dion\, Matan
 e\, QC\, Canada;X-APPLE-RADIUS=100;X-TITLE=Les Allées du Boulevard:geo:0.
 000000,0.000000
END:VEVENT
BEGIN:VTIMEZONE
TZID:America/Toronto
X-LIC-LOCATION:America/Toronto
BEGIN:DAYLIGHT
DTSTART:20260308T030000
TZOFFSETFROM:-0500
TZOFFSETTO:-0400
TZNAME:EDT
END:DAYLIGHT
END:VTIMEZONE
END:VCALENDAR