BEGIN:VCALENDAR
VERSION:2.0
PRODID:-//wp-events-plugin.com//7.2.3.1//EN
TZID:America/Toronto
X-WR-TIMEZONE:America/Toronto
BEGIN:VEVENT
UID:2105@ville.matane.qc.ca
DTSTART;TZID=America/Toronto:20260530T100000
DTEND;TZID=America/Toronto:20260530T200000
DTSTAMP:20260421T175633Z
URL:https://www.ville.matane.qc.ca/events/panache-le-rendez-vous-nature-ch
 asse-et-peche/
SUMMARY:Panache le rendez-vous nature\, chasse et pêche
DESCRIPTION:Panache le rendez-vous nature\, chasse et pêche\, samedi le 30
  mai 2026\, au Club de Golf de Matane.\n\nPour voir la programmation compl
 ète:\nPanache\n\nRetour aux événements
ATTACH;FMTTYPE=image/jpeg:https://www.ville.matane.qc.ca/wp-content/upload
 s/2025/01/panache.webp
CATEGORIES:Plein air et environnement
LOCATION:Club de golf de Matane\, 679\, route 195\, Matane\, QC\, Canada
X-APPLE-STRUCTURED-LOCATION;VALUE=URI;X-ADDRESS=679\, route 195\, Matane\, 
 QC\, Canada;X-APPLE-RADIUS=100;X-TITLE=Club de golf de Matane:geo:0,0
END:VEVENT
BEGIN:VTIMEZONE
TZID:America/Toronto
X-LIC-LOCATION:America/Toronto
BEGIN:DAYLIGHT
DTSTART:20260308T030000
TZOFFSETFROM:-0500
TZOFFSETTO:-0400
TZNAME:EDT
END:DAYLIGHT
END:VTIMEZONE
END:VCALENDAR