BEGIN:VCALENDAR
VERSION:2.0
PRODID:-//wp-events-plugin.com//7.2.3.1//EN
TZID:America/Toronto
X-WR-TIMEZONE:America/Toronto
BEGIN:VEVENT
UID:3942@ville.matane.qc.ca
DTSTART;TZID=America/Toronto;VALUE=DATE:20260618
DTEND;TZID=America/Toronto;VALUE=DATE:20260622
DTSTAMP:20260421T164223Z
URL:https://www.ville.matane.qc.ca/events/mega-vente-de-livres-usages/
SUMMARY:Méga vente de livres usagés
DESCRIPTION:Méga vente de livres usagés du 18 au 21 juin 2026\, à la Sal
 le Isabelle-Boulay du Complexe culturel Joseph-Rouleau.\n\nDétails à ven
 ir.\n\nRetour aux événements\n\n&nbsp\;
ATTACH;FMTTYPE=image/jpeg:https://www.ville.matane.qc.ca/wp-content/upload
 s/2025/10/Vente-de-livress-usages.webp
CATEGORIES:Général
LOCATION:Salle Isabelle-Boulay du Complexe culturel Joseph-Rouleau\, 520\, 
 avenue Saint-Jérôme\, Matane\, QC\, G4W 3B5\, Québec\, Canada
X-APPLE-STRUCTURED-LOCATION;VALUE=URI;X-ADDRESS=520\, avenue Saint-Jérôme
 \, Matane\, QC\, G4W 3B5\, Québec\, Canada;X-APPLE-RADIUS=100;X-TITLE=Sal
 le Isabelle-Boulay du Complexe culturel Joseph-Rouleau:geo:0,0
END:VEVENT
BEGIN:VTIMEZONE
TZID:America/Toronto
X-LIC-LOCATION:America/Toronto
BEGIN:DAYLIGHT
DTSTART:20260308T030000
TZOFFSETFROM:-0500
TZOFFSETTO:-0400
TZNAME:EDT
END:DAYLIGHT
END:VTIMEZONE
END:VCALENDAR