BEGIN:VCALENDAR
VERSION:2.0
PRODID:-//wp-events-plugin.com//7.2.3.1//EN
TZID:America/Toronto
X-WR-TIMEZONE:America/Toronto
BEGIN:VEVENT
UID:900@ville.matane.qc.ca
DTSTART;TZID=America/Toronto:20260423T190000
DTEND;TZID=America/Toronto:20260423T210000
DTSTAMP:20260421T150820Z
URL:https://www.ville.matane.qc.ca/events/matanes-got-talent/
SUMMARY:Matane's got talent
DESCRIPTION:Matane's got talent\, un spectacle anglophone\, organisé par l
 es étudiants du cours « Express yourself » du Cégep de Matane. Jeudi l
 e 23 avril 2026\, dès 19 h\, à la salle Lucien-Bellemare du Cégep.\n\nP
 our plus d'information :\nCégep de Matane\n\nRetour aux événements
ATTACH;FMTTYPE=image/jpeg:https://www.ville.matane.qc.ca/wp-content/upload
 s/2025/01/Matanes-got-talent.webp
CATEGORIES:Arts de la scène &amp; spectacles
LOCATION:Auditorium du Cégep de Matane\,  616\, avenue Saint-Rédempteur\,
  Matane\, QC\, Québec\, Canada
X-APPLE-STRUCTURED-LOCATION;VALUE=URI;X-ADDRESS= 616\, avenue Saint-Rédemp
 teur\, Matane\, QC\, Québec\, Canada;X-APPLE-RADIUS=100;X-TITLE=Auditoriu
 m du Cégep de Matane:geo:0,0
END:VEVENT
BEGIN:VTIMEZONE
TZID:America/Toronto
X-LIC-LOCATION:America/Toronto
BEGIN:DAYLIGHT
DTSTART:20260308T030000
TZOFFSETFROM:-0500
TZOFFSETTO:-0400
TZNAME:EDT
END:DAYLIGHT
END:VTIMEZONE
END:VCALENDAR