BEGIN:VCALENDAR
VERSION:2.0
PRODID:-//wp-events-plugin.com//7.2.3.1//EN
TZID:America/Toronto
X-WR-TIMEZONE:America/Toronto
BEGIN:VEVENT
UID:3940@ville.matane.qc.ca
DTSTART;TZID=America/Toronto:20260613T100000
DTEND;TZID=America/Toronto:20260613T150000
DTSTAMP:20260414T145819Z
URL:https://www.ville.matane.qc.ca/events/marche-public-de-la-matanie-7/
SUMMARY:Marché public de La Matanie
DESCRIPTION:Marché public de La Matanie ouvert tous les samedis du 13 juin
  au 10 octobre 2026\, de 10 h à 15 h.\n\nPour plus d'information :\nSite 
 Internet du Marché\n\nRetour aux événements
ATTACH;FMTTYPE=image/jpeg:https://www.ville.matane.qc.ca/wp-content/upload
 s/2025/10/marche-public-scaled.webp
CATEGORIES:Général
LOCATION:Marché public de La Matanie\, 650 Av. du Phare Ouest\, Matane\, Q
 C\, G4W 3W8\, QC\, Canada
X-APPLE-STRUCTURED-LOCATION;VALUE=URI;X-ADDRESS=650 Av. du Phare Ouest\, Ma
 tane\, QC\, G4W 3W8\, QC\, Canada;X-APPLE-RADIUS=100;X-TITLE=Marché publi
 c de La Matanie:geo:0,0
END:VEVENT
BEGIN:VTIMEZONE
TZID:America/Toronto
X-LIC-LOCATION:America/Toronto
BEGIN:DAYLIGHT
DTSTART:20260308T030000
TZOFFSETFROM:-0500
TZOFFSETTO:-0400
TZNAME:EDT
END:DAYLIGHT
END:VTIMEZONE
END:VCALENDAR