BEGIN:VCALENDAR
VERSION:2.0
PRODID:-//wp-events-plugin.com//7.2.3.1//EN
TZID:America/Toronto
X-WR-TIMEZONE:America/Toronto
BEGIN:VEVENT
UID:3912@ville.matane.qc.ca
DTSTART;TZID=America/Toronto:20260605T110000
DTEND;TZID=America/Toronto:20260605T180000
DTSTAMP:20260421T174909Z
URL:https://www.ville.matane.qc.ca/events/journee-creme-molle-a-la-belle-m
 atane/
SUMMARY:Journée crème molle à La Belle Matane!
DESCRIPTION:Journée crème molle au restaurant La Belle Matane\, le vendre
 di 5 juin 2026\, de 11 h à 18 h\, 1 $ par cornet sera remis à la Fondati
 on de l'hôpital de Matane.\n\nPlus d'information :\nFacebook\n\nRetour au
 x événements
ATTACH;FMTTYPE=image/jpeg:https://www.ville.matane.qc.ca/wp-content/upload
 s/2025/09/La-Belle-Matane.webp
CATEGORIES:Cuisine
END:VEVENT
BEGIN:VTIMEZONE
TZID:America/Toronto
X-LIC-LOCATION:America/Toronto
BEGIN:DAYLIGHT
DTSTART:20260308T030000
TZOFFSETFROM:-0500
TZOFFSETTO:-0400
TZNAME:EDT
END:DAYLIGHT
END:VTIMEZONE
END:VCALENDAR