BEGIN:VCALENDAR
VERSION:2.0
PRODID:-//wp-events-plugin.com//7.2.3.1//EN
TZID:America/Toronto
X-WR-TIMEZONE:America/Toronto
BEGIN:VEVENT
UID:3547@ville.matane.qc.ca
DTSTART;TZID=America/Toronto:20260606T130000
DTEND;TZID=America/Toronto:20260606T160000
DTSTAMP:20260414T150821Z
URL:https://www.ville.matane.qc.ca/events/fete-de-la-peche/
SUMMARY:Fête de la pêche
DESCRIPTION:Fête de la pêche\n\nSamedi 6 juin 2026\, au Colisée Béton-P
 rovincial.\n\nPlus d'information à venir prochaiment.\n\nConsulter la pag
 e Facebook de l'Association des chasseurs et pêcheurs de la région de Ma
 tane\n\nRetour aux événements
CATEGORIES:Sports
LOCATION:Colisée Béton Provincial\, 321 Rue du Bon-Pasteur\, Matane\, QC\
 , G4W 2E4\, Canada
X-APPLE-STRUCTURED-LOCATION;VALUE=URI;X-ADDRESS=321 Rue du Bon-Pasteur\, Ma
 tane\, QC\, G4W 2E4\, Canada;X-APPLE-RADIUS=100;X-TITLE=Colisée Béton Pr
 ovincial:geo:0,0
END:VEVENT
BEGIN:VTIMEZONE
TZID:America/Toronto
X-LIC-LOCATION:America/Toronto
BEGIN:DAYLIGHT
DTSTART:20260308T030000
TZOFFSETFROM:-0500
TZOFFSETTO:-0400
TZNAME:EDT
END:DAYLIGHT
END:VTIMEZONE
END:VCALENDAR