BEGIN:VCALENDAR
VERSION:2.0
PRODID:-//wp-events-plugin.com//7.2.3.1//EN
TZID:America/Toronto
X-WR-TIMEZONE:America/Toronto
BEGIN:VEVENT
UID:1878@ville.matane.qc.ca
DTSTART;TZID=America/Toronto:20260610T133000
DTEND;TZID=America/Toronto:20260610T133000
DTSTAMP:20260413T182514Z
URL:https://www.ville.matane.qc.ca/events/collecte-de-sang-hemaquebec-hqc/
SUMMARY:Collecte de sang HémaQuébec
DESCRIPTION:Collecte de sang HémaQuébec le mercredi 10 juin dès 13h30.\n
 \nPlus de détails à venir prochainement!\n\n&nbsp\;
ATTACH;FMTTYPE=image/jpeg:https://www.ville.matane.qc.ca/wp-content/upload
 s/2025/01/Collecte-Hema-Qc.webp
CATEGORIES:Général
LOCATION:Colisée Béton-Provincial\, 321 rue Du Bon-Pasteur\, Matane\, QC\
 , Canada
X-APPLE-STRUCTURED-LOCATION;VALUE=URI;X-ADDRESS=321 rue Du Bon-Pasteur\, Ma
 tane\, QC\, Canada;X-APPLE-RADIUS=100;X-TITLE=Colisée Béton-Provincial:g
 eo:0,0
END:VEVENT
BEGIN:VTIMEZONE
TZID:America/Toronto
X-LIC-LOCATION:America/Toronto
BEGIN:DAYLIGHT
DTSTART:20260308T030000
TZOFFSETFROM:-0500
TZOFFSETTO:-0400
TZNAME:EDT
END:DAYLIGHT
END:VTIMEZONE
END:VCALENDAR