BEGIN:VCALENDAR
VERSION:2.0
PRODID:-//wp-events-plugin.com//7.2.3.1//EN
TZID:America/Toronto
X-WR-TIMEZONE:America/Toronto
BEGIN:VEVENT
UID:3426@ville.matane.qc.ca
DTSTART;TZID=America/Toronto:20260606T190000
DTEND;TZID=America/Toronto:20260606T190000
DTSTAMP:20260421T175131Z
URL:https://www.ville.matane.qc.ca/events/bye-bye-secondaire-2026/
SUMMARY:Bye-Bye Secondaire 2026
DESCRIPTION:Bye-Bye Secondaire 2026\, à l'auditorium de l'École Secondair
 e de Matane\, un spectacle humoristique qui refait le tour de l'année sco
 laire 2025-2026 et de l'actualité locale réalisé par des élèves pour 
 des élèves.\nBillets disponibles au coût de 8 $ en vente auprès des fi
 nissant·es ou à la porte le soir du spectacle. Tous les profits amassés
  iront pour le bal des finissant·es 2026.\n\nPour plus d'information :\n
 Événement Facebook\n\nRetour aux événements
ATTACH;FMTTYPE=image/jpeg:https://www.ville.matane.qc.ca/wp-content/upload
 s/2025/05/byebye-secondaire-2026.webp
CATEGORIES:Arts de la scène &amp; spectacles
LOCATION:École secondaire de Matane - Auditorium\,  \, QC\, Canada
GEO:0.000000;0.000000
X-APPLE-STRUCTURED-LOCATION;VALUE=URI;X-ADDRESS= \, QC\, Canada;X-APPLE-RAD
 IUS=100;X-TITLE=École secondaire de Matane - Auditorium:geo:0.000000,0.00
 0000
END:VEVENT
BEGIN:VTIMEZONE
TZID:America/Toronto
X-LIC-LOCATION:America/Toronto
BEGIN:DAYLIGHT
DTSTART:20260308T030000
TZOFFSETFROM:-0500
TZOFFSETTO:-0400
TZNAME:EDT
END:DAYLIGHT
END:VTIMEZONE
END:VCALENDAR