BEGIN:VCALENDAR
VERSION:2.0
PRODID:-//wp-events-plugin.com//7.2.3.1//EN
TZID:America/Toronto
X-WR-TIMEZONE:America/Toronto
BEGIN:VEVENT
UID:3549@ville.matane.qc.ca
DTSTART;TZID=America/Toronto:20260510T090000
DTEND;TZID=America/Toronto:20260510T120000
DTSTAMP:20260421T180113Z
URL:https://www.ville.matane.qc.ca/events/brunch-des-voisins-saint-adelme/
SUMMARY:Brunch des voisins de Saint-Adelme
DESCRIPTION:Brunch des voisins de Saint-Adelme\, le dimanche 10 mai\, de 9 
 h à 12 h\, au centre municipal.\n\nTarifs (au profit des organismes commu
 nautaires):\n0 à 5 ans : gratuit\n6 à 11 ans : 8 $\n12 ans et plus : 15 
 $\n\nPour plus d'information :\nÉvénement Facebook\n\nRetour aux événe
 ments\n\n&nbsp\;
ATTACH;FMTTYPE=image/jpeg:https://www.ville.matane.qc.ca/wp-content/upload
 s/2025/06/Brunch-des-voisins.webp
CATEGORIES:Cuisine,Général
LOCATION:138\, rue Principale\, Saint-Adelme\,  \, QC\, Canada
X-APPLE-STRUCTURED-LOCATION;VALUE=URI;X-ADDRESS= \, QC\, Canada;X-APPLE-RAD
 IUS=100;X-TITLE=138\, rue Principale\, Saint-Adelme:geo:0,0
END:VEVENT
BEGIN:VTIMEZONE
TZID:America/Toronto
X-LIC-LOCATION:America/Toronto
BEGIN:DAYLIGHT
DTSTART:20260308T030000
TZOFFSETFROM:-0500
TZOFFSETTO:-0400
TZNAME:EDT
END:DAYLIGHT
END:VTIMEZONE
END:VCALENDAR