BEGIN:VCALENDAR
VERSION:2.0
PRODID:-//wp-events-plugin.com//7.2.3.1//EN
TZID:America/Toronto
X-WR-TIMEZONE:America/Toronto
BEGIN:VEVENT
UID:786@ville.matane.qc.ca
DTSTART;TZID=America/Toronto:20260702T193000
DTEND;TZID=America/Toronto:20260702T193000
DTSTAMP:20260421T165307Z
URL:https://www.ville.matane.qc.ca/events/ateliers-de-peinture-les-pieds-d
 ans-le-sable/
SUMMARY:Ateliers de peinture Les pieds dans le sable
DESCRIPTION:Ateliers de peinture Les pieds dans le sable\, peinture aux doi
 gts au coucher du soleil à la plage du Barachois avec France Clément.\nL
 e 2 juillet (remis au 23 juillet en cas de pluie) et le 14 juillet (remis 
 au 16 juillet en cas de pluie)\, à 19 h 30\, sur la plage derrière le Ba
 rachois.\n\nDétails\, inscriptions à venir.\n\nRetour aux événements\n
 \n&nbsp\;
ATTACH;FMTTYPE=image/jpeg:https://www.ville.matane.qc.ca/wp-content/upload
 s/2025/01/ville-matane-diaporama-fev2023-34.webp
CATEGORIES:Arts visuels &amp; expositions,Divertissements
LOCATION:Plage derrière le Barachois\,  \, QC\, Canada
GEO:0.000000;0.000000
X-APPLE-STRUCTURED-LOCATION;VALUE=URI;X-ADDRESS= \, QC\, Canada;X-APPLE-RAD
 IUS=100;X-TITLE=Plage derrière le Barachois:geo:0.000000,0.000000
END:VEVENT
BEGIN:VTIMEZONE
TZID:America/Toronto
X-LIC-LOCATION:America/Toronto
BEGIN:DAYLIGHT
DTSTART:20260308T030000
TZOFFSETFROM:-0500
TZOFFSETTO:-0400
TZNAME:EDT
END:DAYLIGHT
END:VTIMEZONE
END:VCALENDAR