BEGIN:VCALENDAR
VERSION:2.0
PRODID:-//wp-events-plugin.com//7.2.3.1//EN
TZID:America/Toronto
X-WR-TIMEZONE:America/Toronto
BEGIN:VEVENT
UID:3973@ville.matane.qc.ca
DTSTART;TZID=America/Toronto:20260501T093000
DTEND;TZID=America/Toronto:20260501T103000
DTSTAMP:20260422T133334Z
URL:https://www.ville.matane.qc.ca/events/ateliers-collaboratifs-sur-la-fu
 ture/
SUMMARY:Ateliers collaboratifs sur la future vocation de l’église Saint-
 Jérôme - Pour le milieu culturel et communautaire
DESCRIPTION:Ateliers collaboratifs sur la future vocation de l’église Sa
 int-Jérôme organisés par la Ville de Matane. Réservé au milieu cultur
 el et communautaire.\n\nVoir les rencontres citoyennes.\nInscription oblig
 atoire.\nRencontre pour le milieu culturel et communautaire à la Récréa
 thèque du Colisée Béton-Provincial:\nVendredi 1er mai\, 9 h 30 (durée 
 d’environ 1 h 30)\n
ATTACH;FMTTYPE=image/jpeg:https://www.ville.matane.qc.ca/wp-content/upload
 s/2025/09/Ateliers-collaboratifs-sur-la-future-vocation-de-leglise.webp
CATEGORIES:Général
LOCATION:Récréathèque du Colisée Béton Provincial\,  \, QC\, Canada
X-APPLE-STRUCTURED-LOCATION;VALUE=URI;X-ADDRESS= \, QC\, Canada;X-APPLE-RAD
 IUS=100;X-TITLE=Récréathèque du Colisée Béton Provincial:geo:0,0
END:VEVENT
BEGIN:VTIMEZONE
TZID:America/Toronto
X-LIC-LOCATION:America/Toronto
BEGIN:DAYLIGHT
DTSTART:20260308T030000
TZOFFSETFROM:-0500
TZOFFSETTO:-0400
TZNAME:EDT
END:DAYLIGHT
END:VTIMEZONE
END:VCALENDAR