BEGIN:VCALENDAR
VERSION:2.0
PRODID:-//wp-events-plugin.com//7.2.3.1//EN
TZID:America/Toronto
X-WR-TIMEZONE:America/Toronto
BEGIN:VEVENT
UID:3952@ville.matane.qc.ca
DTSTART;TZID=America/Toronto:20260502T230000
DTEND;TZID=America/Toronto:20260502T230000
DTSTAMP:20260421T175843Z
URL:https://www.ville.matane.qc.ca/events/after-party-officiel-du-super-ga
 la-de-boxe-de-matane/
SUMMARY:After Party Officiel du Super Gala de Boxe de Matane
DESCRIPTION:After Party Officiel du Super Gala de Boxe de Matane\, le 2 mai
  à la salle du Chameau\, du Bar La Mansarde\, dès 23 h\, l'entrée est g
 ratuite!\n\nPour plus d'information :\nÉvénement Facebook\n\nRetour aux 
 événements
ATTACH;FMTTYPE=image/jpeg:https://www.ville.matane.qc.ca/wp-content/upload
 s/2025/01/After-party-gala-boxe.webp
CATEGORIES:Divertissements
LOCATION:Bar La Mansarde (salle du Chameau)\, 143 rue Fraser\, Matane\, QC\
 , G4W 3G9\, Canada
X-APPLE-STRUCTURED-LOCATION;VALUE=URI;X-ADDRESS=143 rue Fraser\, Matane\, Q
 C\, G4W 3G9\, Canada;X-APPLE-RADIUS=100;X-TITLE=Bar La Mansarde (salle du 
 Chameau):geo:0,0
END:VEVENT
BEGIN:VTIMEZONE
TZID:America/Toronto
X-LIC-LOCATION:America/Toronto
BEGIN:DAYLIGHT
DTSTART:20260308T030000
TZOFFSETFROM:-0500
TZOFFSETTO:-0400
TZNAME:EDT
END:DAYLIGHT
END:VTIMEZONE
END:VCALENDAR